BEGIN:VCALENDAR
VERSION:2.0
PRODID:-//Ayuntamiento de Ceutí - ECPv4.9.4//NONSGML v1.0//EN
CALSCALE:GREGORIAN
METHOD:PUBLISH
X-WR-CALNAME:Ayuntamiento de Ceutí
X-ORIGINAL-URL:https://ceuti.es
X-WR-CALDESC:Eventos para Ayuntamiento de Ceutí
BEGIN:VTIMEZONE
TZID:"UTC"
BEGIN:STANDARD
TZOFFSETFROM:+0000
TZOFFSETTO:+0000
TZNAME:UTC
DTSTART:20180101T000000
END:STANDARD
END:VTIMEZONE
BEGIN:VEVENT
DTSTART;TZID="UTC":20180216T100000
DTEND;TZID="UTC":20180216T120000
DTSTAMP:20260421T103418
CREATED:20180216T084316Z
LAST-MODIFIED:20180216T084316Z
UID:2992-1518775200-1518782400@ceuti.es
SUMMARY:Visita Ceutí -  Directora General de Ordenación del Territorio\, Arquitectura y Vivienda
DESCRIPTION:La Directora General de Ordenación del Territorio\, Arquitectura y Vivienda de la CARM\, Dña. Laura Sandoval Otalara\, visita el municipio de Ceutí\, para comprobar el estado de las obras de las Viviendas Sociales de la Tejera. \n
URL:https://ceuti.es/event/visita-ceuti-directora-general-de-ordenacion-del-territorio-arquitectura-y-vivienda/
LOCATION:Ayuntamiento de Ceutí\, PL Jose Virgili\, 1\, Ceutí\, Murcia\, 30562\, España
END:VEVENT
END:VCALENDAR