BEGIN:VCALENDAR
VERSION:2.0
PRODID:-//Ayuntamiento de Ceutí - ECPv4.9.4//NONSGML v1.0//EN
CALSCALE:GREGORIAN
METHOD:PUBLISH
X-WR-CALNAME:Ayuntamiento de Ceutí
X-ORIGINAL-URL:https://ceuti.es
X-WR-CALDESC:Eventos para Ayuntamiento de Ceutí
BEGIN:VTIMEZONE
TZID:"UTC"
BEGIN:STANDARD
TZOFFSETFROM:+0000
TZOFFSETTO:+0000
TZNAME:UTC
DTSTART:20200101T000000
END:STANDARD
END:VTIMEZONE
BEGIN:VEVENT
DTSTART;TZID="UTC":20200110T120000
DTEND;TZID="UTC":20200110T170000
DTSTAMP:20260421T101911
CREATED:20200110T104730Z
LAST-MODIFIED:20200110T104730Z
UID:5536-1578657600-1578675600@ceuti.es
SUMMARY:"Murcia\, Capital Española de la Grastronomía"
DESCRIPTION:D. Juan Felipe Cano alcalde de Ceutí junto con resto de alcaldes/as de los municipios de la Región acudirá a la presentación oficial de » Murcia\, Capital Española de la Gastronomía» en el Teatro Romea con la presencia de D. Fernando López Miras Presidente de la Región de Murcia. \n
URL:https://ceuti.es/event/murcia-capital-espanola-de-la-grastronomia/
END:VEVENT
END:VCALENDAR