BEGIN:VCALENDAR
VERSION:2.0
PRODID:-//Ayuntamiento de Ceutí - ECPv4.9.4//NONSGML v1.0//EN
CALSCALE:GREGORIAN
METHOD:PUBLISH
X-WR-CALNAME:Ayuntamiento de Ceutí
X-ORIGINAL-URL:https://ceuti.es
X-WR-CALDESC:Eventos para Ayuntamiento de Ceutí
BEGIN:VTIMEZONE
TZID:"UTC"
BEGIN:STANDARD
TZOFFSETFROM:+0000
TZOFFSETTO:+0000
TZNAME:UTC
DTSTART:20190101T000000
END:STANDARD
END:VTIMEZONE
BEGIN:VEVENT
DTSTART;TZID="UTC":20190403T110000
DTEND;TZID="UTC":20190403T170000
DTSTAMP:20260419T155206
CREATED:20190423T082310Z
LAST-MODIFIED:20190423T082310Z
UID:4514-1554289200-1554310800@ceuti.es
SUMMARY:FIRMA CONVENIO UNIVERSIDAD DE MURCIA
DESCRIPTION:D. Juan Felipe Cano alcalde de Ceutí y Dña. Victoria Cano concejal delegada de educación acudiran a la firma del convenio con D. José Luján rector de la Universidad de Murcia para establecer una sede permanente en Ceutí. \n
URL:https://ceuti.es/event/firma-convenio-universidad-de-murcia/
END:VEVENT
END:VCALENDAR